BEGIN:VCALENDAR
VERSION:2.0
PRODID:-//Tukios.com/
BEGIN:VEVENT
UID:0abdfb83-959b-4d37-87ec-105e23b8a9ab@www.bradfordokeefe.com
DTSTAMP:20260420T191203Z
DTSTART:20260516T190000Z
DTEND:20260516T200000Z
SUMMARY:Graveside Service
DESCRIPTION:
URL:https://www.bradfordokeefe.com/obituaries/elizabeth-moon
LOCATION: 3908 28th Street  Gulfport MS 39501
GEO:30.3846128;-89.1097028
END:VEVENT
END:VCALENDAR