BEGIN:VCALENDAR
VERSION:2.0
PRODID:-//Tukios.com/
BEGIN:VEVENT
UID:df9fde0c-48f3-4f32-898f-5c381d67adf2@www.bradfordokeefe.com
DTSTAMP:20260422T183918Z
DTSTART:20260429T143000Z
DTEND:20260429T154500Z
SUMMARY:Visitation
DESCRIPTION:
URL:https://www.bradfordokeefe.com/obituaries/eula-williams
LOCATION: 10446 Lemoyne Blvd.  D'Iberville MS 39540
GEO:30.4363925;-88.8864682
END:VEVENT
END:VCALENDAR