BEGIN:VCALENDAR
VERSION:2.0
PRODID:-//Tukios.com/
BEGIN:VEVENT
UID:2ce75065-aead-44b5-a17c-809f505c65fc@www.bradfordokeefe.com
DTSTAMP:20260422T183441Z
DTSTART:20260429T160000Z
DTEND:20260429T170000Z
SUMMARY:Mass
DESCRIPTION:
URL:https://www.bradfordokeefe.com/obituaries/eula-williams
LOCATION: 10446 Lemoyne Blvd.  D'Iberville MS 39540
GEO:30.4363925;-88.8864682
END:VEVENT
END:VCALENDAR