BEGIN:VCALENDAR
VERSION:2.0
PRODID:-//Tukios.com/
BEGIN:VEVENT
UID:4ce9d846-6c8c-4e3b-8c99-6be2110e3866@www.bradfordokeefe.com
DTSTAMP:20260422T183645Z
DTSTART:20260429
SUMMARY:Burial
DESCRIPTION:
URL:https://www.bradfordokeefe.com/obituaries/eula-williams
LOCATION: 3229 Mallett Road  D'Iberville MS 39540
GEO:30.4552375;-88.8905887
END:VEVENT
END:VCALENDAR