BEGIN:VCALENDAR
VERSION:2.0
PRODID:-//Tukios.com/
BEGIN:VEVENT
UID:73bd4c5a-a1bb-4e67-84ab-a34b4ea72cc3@www.bradfordokeefe.com
DTSTAMP:20260421T084914Z
DTSTART:20260423T150000Z
DTEND:20260423T170000Z
SUMMARY:Celebration of Life
DESCRIPTION:
URL:https://www.bradfordokeefe.com/obituaries/jack-madison
LOCATION:Bradford-O'Keefe Funeral Home 675 Howard Avenue  Biloxi MS 39530
GEO:30.3956828;-88.8846441
END:VEVENT
END:VCALENDAR