BEGIN:VCALENDAR
VERSION:2.0
PRODID:-//Tukios.com/
BEGIN:VEVENT
UID:059def02-34be-4de2-9be8-04b419b8e2ca@www.bradfordokeefe.com
DTSTAMP:20260420T233752Z
DTSTART:20260504T150000Z
DTEND:20260504T160000Z
SUMMARY:Visitation
DESCRIPTION:
URL:https://www.bradfordokeefe.com/obituaries/leo-seicshnaydre
LOCATION: 366 Cowan Road  Gulfport MS 39507
GEO:30.3897911;-89.0262595
END:VEVENT
END:VCALENDAR