BEGIN:VCALENDAR
VERSION:2.0
PRODID:-//Tukios.com/
BEGIN:VEVENT
UID:42f4606b-a0c5-4ac9-8261-76b5327f01c8@www.bradfordokeefe.com
DTSTAMP:20260420T233926Z
DTSTART:20260504T160000Z
DTEND:20260504T170000Z
SUMMARY:Mass
DESCRIPTION:
URL:https://www.bradfordokeefe.com/obituaries/leo-seicshnaydre
LOCATION: 366 Cowan Road  Gulfport MS 39507
GEO:30.3897911;-89.0262595
END:VEVENT
END:VCALENDAR