BEGIN:VCALENDAR
VERSION:2.0
PRODID:-//Tukios.com/
BEGIN:VEVENT
UID:83fce23b-6972-4934-8cd7-d921b3157c3b@www.bradfordokeefe.com
DTSTAMP:20260425T190817Z
DTSTART:20260428T163000Z
DTEND:20260428T173000Z
SUMMARY:Visitation
DESCRIPTION:
URL:https://www.bradfordokeefe.com/obituaries/mary-barnett
LOCATION: 675 Howard Avenue  Biloxi MS 39530
GEO:30.3956869;-88.8845952
END:VEVENT
END:VCALENDAR