BEGIN:VCALENDAR
VERSION:2.0
PRODID:-//Tukios.com/
BEGIN:VEVENT
UID:de557019-0fad-41ba-b9da-25d7dfca2fe4@www.bradfordokeefe.com
DTSTAMP:20260425T190937Z
DTSTART:20260428T173000Z
DTEND:20260428T183000Z
SUMMARY:Funeral Service
DESCRIPTION:
URL:https://www.bradfordokeefe.com/obituaries/mary-barnett
LOCATION: 675 Howard Avenue  Biloxi MS 39530
GEO:30.3956869;-88.8845952
END:VEVENT
END:VCALENDAR