BEGIN:VCALENDAR
VERSION:2.0
PRODID:-//Tukios.com/
BEGIN:VEVENT
UID:34e5cb9e-fc7b-4cd4-9433-c9f797115b37@www.bradfordokeefe.com
DTSTAMP:20260420T233911Z
DTSTART:20260424T150000Z
DTEND:20260424T160000Z
SUMMARY:Visitation
DESCRIPTION:
URL:https://www.bradfordokeefe.com/obituaries/nancy-ruff
LOCATION:First Methodist Church 208 Pine Street  Long Beach MS 39560
GEO:30.3491173;-89.1536695
END:VEVENT
END:VCALENDAR