BEGIN:VCALENDAR
VERSION:2.0
PRODID:-//Tukios.com/
BEGIN:VEVENT
UID:d62ee0dd-2bd0-4544-b0fc-4b38b6743263@www.bradfordokeefe.com
DTSTAMP:20260420T234201Z
DTSTART:20260424T160000Z
DTEND:20260424T170000Z
SUMMARY:Memorial Service
DESCRIPTION:
URL:https://www.bradfordokeefe.com/obituaries/nancy-ruff
LOCATION: 208 Pine Street  Long Beach MS 39560
GEO:30.3491173;-89.1536695
END:VEVENT
END:VCALENDAR