BEGIN:VCALENDAR
VERSION:2.0
PRODID:-//Tukios.com/
BEGIN:VEVENT
UID:cc80e6c8-5faf-405c-a803-b9bd9a421b14@www.bradfordokeefe.com
DTSTAMP:20260425T211231Z
DTSTART:20260502T160000Z
DTEND:20260502T170000Z
SUMMARY:Funeral Service
DESCRIPTION:
URL:https://www.bradfordokeefe.com/obituaries/norma-lamey
LOCATION:Blessed Seelos Catholic Church 360 Lameuse St.  Biloxi MS 39530
GEO:30.4065775;-88.8868616
END:VEVENT
END:VCALENDAR