BEGIN:VCALENDAR
VERSION:2.0
PRODID:-//Tukios.com/
BEGIN:VEVENT
UID:e35a1f18-b588-4c76-8097-2b95bb20ec6e@www.bradfordokeefe.com
DTSTAMP:20260425T211125Z
DTSTART:20260502T150000Z
DTEND:20260502T160000Z
SUMMARY:Visitation
DESCRIPTION:
URL:https://www.bradfordokeefe.com/obituaries/norma-lamey
LOCATION:Blessed Seelos Catholic Church 360 Lameuse St.  Biloxi MS 39530
GEO:30.4065775;-88.8868616
END:VEVENT
END:VCALENDAR