BEGIN:VCALENDAR
VERSION:2.0
PRODID:-//Tukios.com/
BEGIN:VEVENT
UID:cd603fa0-85cf-4a41-bd3d-74373caa39c8@www.bradfordokeefe.com
DTSTAMP:20260425T194006Z
DTSTART:20260428T150000Z
DTEND:20260428T163000Z
SUMMARY:Visitation
DESCRIPTION:
URL:https://www.bradfordokeefe.com/obituaries/roy-thibodeaux-jr
LOCATION:Pass Road Chapel of Bradford-O’Keefe Funeral Home 2511 Pass 
	Road  Biloxi MS 39531
GEO:30.4007667;-88.9834898
END:VEVENT
END:VCALENDAR