BEGIN:VCALENDAR
VERSION:2.0
PRODID:-//Tukios.com/
BEGIN:VEVENT
UID:c7001275-835c-4981-a3f1-b1360b054631@www.bradfordokeefe.com
DTSTAMP:20260425T194054Z
DTSTART:20260428T163000Z
DTEND:20260428T173000Z
SUMMARY:Funeral Service
DESCRIPTION:
URL:https://www.bradfordokeefe.com/obituaries/roy-thibodeaux-jr
LOCATION:Pass Road Chapel of Bradford-O’Keefe Funeral Home 2511 Pass 
	Road  Biloxi MS 39531
GEO:30.4007667;-88.9834898
END:VEVENT
END:VCALENDAR