BEGIN:VCALENDAR
VERSION:2.0
PRODID:-//Tukios.com/
BEGIN:VEVENT
UID:16364910-afaf-4946-9fee-0242255609f0@www.bradfordokeefe.com
DTSTAMP:20260424T225303Z
DTSTART:20260430T180000Z
DTEND:20260430T210000Z
SUMMARY:Visitation
DESCRIPTION:
URL:https://www.bradfordokeefe.com/obituaries/thu-nguyen-2026
LOCATION:Bradford-O'Keefe Funeral Home 675 Howard Avenue  Biloxi MS 39530
GEO:30.3956869;-88.8845952
END:VEVENT
END:VCALENDAR