BEGIN:VCALENDAR
VERSION:2.0
PRODID:-//Tukios.com/
BEGIN:VEVENT
UID:5d84ddeb-d9c5-4275-9b72-d891d31a1a8d@www.bradfordokeefe.com
DTSTAMP:20260424T224931Z
DTSTART:20260501T180000Z
DTEND:20260501T210000Z
SUMMARY:Visitation
DESCRIPTION:
URL:https://www.bradfordokeefe.com/obituaries/thu-nguyen-2026
LOCATION:Bradford-O'Keefe Funeral Home 675 Howard Avenue  Biloxi MS 39530
GEO:30.3956869;-88.8845952
END:VEVENT
END:VCALENDAR