BEGIN:VCALENDAR
VERSION:2.0
PRODID:-//Tukios.com/
BEGIN:VEVENT
UID:041e1ca9-62aa-4708-ac07-f3829a8119bb@www.bradfordokeefe.com
DTSTAMP:20260424T224829Z
DTSTART:20260502T160000Z
DTEND:20260502T170000Z
SUMMARY:Mass
DESCRIPTION:
URL:https://www.bradfordokeefe.com/obituaries/thu-nguyen-2026
LOCATION:Vietnamese Martyrs Catholic Church 172 Oak Street  Biloxi MS 
	39530
GEO:30.3972513;-88.8675089
END:VEVENT
END:VCALENDAR